BEGIN:VCALENDAR
METHOD:PUBLISH
PRODID:-//SCTS-Website//EN
VERSION:2.0
BEGIN:VEVENT
ORGANIZER;CN=ESTS ERS:MAILTO:mara@scts.org
DTSTAMP:20221113T091251Z
DTSTART:20230213T090000Z
DTEND:20230215T180000Z
SUMMARY:ESTS ERS Collaborative Course on Thoracic Oncology
UID:238@SCTS
CREATED:20221113
DESCRIPTION:ESTS ERS Collaborative Course on Thoracic Oncology\n\nA Multidisciplinary Update on Potentially Operable Lung Cancer\n\nMonday 13 Feb – Wednesday 15 Feb 2023\n\nRadisson Blu Hotel, Zurich Airport, Switzerland\n\nThe course is a review of the most current topics of Oncology. \n\nThe panel of experts will be both in person and virtual. \n\nSeveral workshops will be arranged in which you can make an approach and training in simulation conditions of several innovative practical skills.\n\nThe program and information is available through the following link:   ESTS ERS Collaborative Course on Thoracic Oncology | European Society of Thoracic Surgeons\n\nDeadline for reduced early registration is Sunday 13 November 2022:  ESTS-ERS2023 (emma.events)\n\n
LOCATION:Zurich, Switzerland
END:VEVENT
END:VCALENDAR