BEGIN:VCALENDAR
METHOD:PUBLISH
PRODID:-//SCTS-Website//EN
VERSION:2.0
BEGIN:VEVENT
ORGANIZER:MAILTO:mara@scts.org
DTSTAMP:20211112T132147Z
DTSTART:20211126T090000Z
DTEND:20211126T180000Z
SUMMARY:Improving patient outcomes in Thoracic Surgery
UID:108@SCTS
CREATED:20211112
DESCRIPTION:Register here\n\n\n\n
END:VEVENT
END:VCALENDAR